BEGIN:VCALENDAR
VERSION:2.0
PRODID:-//Butler County Sportsmen Rifle and Pistol Club - ECPv6.15.20//NONSGML v1.0//EN
CALSCALE:GREGORIAN
METHOD:PUBLISH
X-ORIGINAL-URL:https://butlercountysportsmen.com
X-WR-CALDESC:Events for Butler County Sportsmen Rifle and Pistol Club
REFRESH-INTERVAL;VALUE=DURATION:PT1H
X-Robots-Tag:noindex
X-PUBLISHED-TTL:PT1H
BEGIN:VTIMEZONE
TZID:America/New_York
BEGIN:DAYLIGHT
TZOFFSETFROM:-0500
TZOFFSETTO:-0400
TZNAME:EDT
DTSTART:20270314T070000
END:DAYLIGHT
BEGIN:STANDARD
TZOFFSETFROM:-0400
TZOFFSETTO:-0500
TZNAME:EST
DTSTART:20271107T060000
END:STANDARD
BEGIN:DAYLIGHT
TZOFFSETFROM:-0500
TZOFFSETTO:-0400
TZNAME:EDT
DTSTART:20280312T070000
END:DAYLIGHT
BEGIN:STANDARD
TZOFFSETFROM:-0400
TZOFFSETTO:-0500
TZNAME:EST
DTSTART:20281105T060000
END:STANDARD
BEGIN:DAYLIGHT
TZOFFSETFROM:-0500
TZOFFSETTO:-0400
TZNAME:EDT
DTSTART:20290311T070000
END:DAYLIGHT
BEGIN:STANDARD
TZOFFSETFROM:-0400
TZOFFSETTO:-0500
TZNAME:EST
DTSTART:20291104T060000
END:STANDARD
END:VTIMEZONE
BEGIN:VEVENT
DTSTART;TZID=America/New_York:20280208T090000
DTEND;TZID=America/New_York:20280208T120000
DTSTAMP:20260420T083549
CREATED:20250616T014938Z
LAST-MODIFIED:20250616T014938Z
UID:10000739-1833613200-1833624000@butlercountysportsmen.com
SUMMARY:Men's Pistol League
DESCRIPTION:
URL:https://butlercountysportsmen.com/event/mens-pistol-league-9/2028-02-08/
LOCATION:Butler County Sportsmen Club\, 2131 Millville Ave\, Hamilton\, Ohio\, 45013\, United States
END:VEVENT
BEGIN:VEVENT
DTSTART;TZID=America/New_York:20280208T180000
DTEND;TZID=America/New_York:20280208T210000
DTSTAMP:20260420T083549
CREATED:20250616T015140Z
LAST-MODIFIED:20250616T015140Z
UID:10000999-1833645600-1833656400@butlercountysportsmen.com
SUMMARY:Men's Pistol League
DESCRIPTION:
URL:https://butlercountysportsmen.com/event/mens-pistol-league-4/2028-02-08/
LOCATION:Butler County Sportsmen Club\, 2131 Millville Ave\, Hamilton\, Ohio\, 45013\, United States
END:VEVENT
END:VCALENDAR